BEGIN:VCALENDAR
VERSION:2.0
PRODID:-//Summits Up - ECPv6.15.20//NONSGML v1.0//EN
CALSCALE:GREGORIAN
METHOD:PUBLISH
X-WR-CALNAME:Summits Up
X-ORIGINAL-URL:https://summitsup.co.uk
X-WR-CALDESC:Events for Summits Up
REFRESH-INTERVAL;VALUE=DURATION:PT1H
X-Robots-Tag:noindex
X-PUBLISHED-TTL:PT1H
BEGIN:VTIMEZONE
TZID:Europe/London
BEGIN:DAYLIGHT
TZOFFSETFROM:+0000
TZOFFSETTO:+0100
TZNAME:BST
DTSTART:20250330T010000
END:DAYLIGHT
BEGIN:STANDARD
TZOFFSETFROM:+0100
TZOFFSETTO:+0000
TZNAME:GMT
DTSTART:20251026T010000
END:STANDARD
BEGIN:DAYLIGHT
TZOFFSETFROM:+0000
TZOFFSETTO:+0100
TZNAME:BST
DTSTART:20260329T010000
END:DAYLIGHT
BEGIN:STANDARD
TZOFFSETFROM:+0100
TZOFFSETTO:+0000
TZNAME:GMT
DTSTART:20261025T010000
END:STANDARD
BEGIN:DAYLIGHT
TZOFFSETFROM:+0000
TZOFFSETTO:+0100
TZNAME:BST
DTSTART:20270328T010000
END:DAYLIGHT
BEGIN:STANDARD
TZOFFSETFROM:+0100
TZOFFSETTO:+0000
TZNAME:GMT
DTSTART:20271031T010000
END:STANDARD
END:VTIMEZONE
BEGIN:VEVENT
DTSTART;VALUE=DATE:20260501
DTEND;VALUE=DATE:20260601
DTSTAMP:20260425T174619
CREATED:20260403T113643Z
LAST-MODIFIED:20260403T120019Z
UID:10000015-1777593600-1780271999@summitsup.co.uk
SUMMARY:100K In MAY - Bag 100KM in May with the Team Challenge!
DESCRIPTION:💯 100KM in May – Are You In?\n						100KM in May – Are You In? \nDust off your walking boots and lace up your running shoes!  It’s time for the next Summits Up month-long challenge. \nThis May\, we’re challenging everyone to complete 100 kilometres across the month. Whether you choose to walk\, run\, or mix it up\, every kilometre counts. \nHere’s how it works: \n\nCommit to 100km in May\nWalk or run your distance\nDonate 20p for every kilometre you complete to support Summits Up\n\nThis activity is designed to be on top of your usual daily steps\, giving you a great opportunity to boost your fitness\, get outdoors\, and challenge yourself. \nTo keep everyone motivated\, we’ll also have: \n\nA WhatsApp accountability group for encouragement and updates\nA leaderboard tracking distances\nA prize for the person who covers the most distance\n\nIt’s a simple way to stay active\, support a great cause\, and have some fun along the way. \nAre you ready to take on the 100KM in May challenge? \n					\n				\n			\n			\n				\n				\n				\n				\n			\n				\n				\n				\n				\n				\n				\n				\n				\n				\n				\n				\n      \n  \n\n    \n        Sign Up\n            * indicates required\n            Email Address *Mobile Telephone \n\n        \n            \n            \n        \n    \n\n\n\n\n			\n			\n				\n				\n				\n				\n			\n				\n				\n			\n				\n				\n				\n				\n				\n				\n				\n				\n				\n				\n				\n				\n				\n				\n				\n				\n				\n				\n				\n				\n				\n				\n				WhatsApp Community\n				Please join our 100k in May Challenge WhatsApp Group Community for Keeping up to date here 👉 WhatsApp Community
URL:https://summitsup.co.uk/event/100km-in-may-bag-100km-in-may-with-the-team-challenge/
ATTACH;FMTTYPE=image/jpeg:https://summitsup.co.uk/wp-content/uploads/2025/12/IMG_8875.jpg
END:VEVENT
BEGIN:VEVENT
DTSTART;TZID=Europe/London:20260503T090000
DTEND;TZID=Europe/London:20260503T140000
DTSTAMP:20260425T174619
CREATED:20260303T120424Z
LAST-MODIFIED:20260326T231203Z
UID:10000011-1777798800-1777816800@summitsup.co.uk
SUMMARY:3rd May 2026 Monthly Hike - Rivelin and Redmires Reservoirs
DESCRIPTION:🌿 Rivelin & Redmires Reservoirs Circular\n📅 Sunday 3rd May 2026 \n🏔 Event Overview\nJoin us for a beautiful circular walk through woodland\, reservoirs\, and open moorland on the edge of the Peak District. This route takes in the peaceful Rivelin Valley\, the stunning Wyming Brook\, and the scenic Redmires Reservoirs — offering a mix of terrain and some of the best views around Sheffield. \nA perfect social hike to connect\, reset\, and get outdoors together. \n\n📍 Event Logistics\n\nMeeting Location: Rivelin Dams Car Park S10 4LJ\nStart/Finish: Circular route from Redmires area\nMeet Time: 08:45\nWalk Start: 09:00\nDistance: 8.7 miles / 14 km\nElevation Gain: ~400 m\nEstimated Duration: 4 – 4.5 hours\nDifficulty: Moderate\nFacilities: The car park is free\, however there are no toilets at the start / finish of this route\, the pub we stop at is approx. 1km before the end of the route.\n\n\n🗺 Route Overview\nThis circular route begins near the Redmires Reservoirs\, heading through woodland and open moorland before dropping into the Rivelin Valley. The route then climbs through the stunning Wyming Brook Nature Reserve before returning via scenic trails around the reservoirs. \nA varied and rewarding walk with a great mix of terrain and views throughout. \nAllTrails Route:https://www.alltrails.com/trail/england/south-yorkshire/rivelin-and-redmires-reservoirs-circular \n\n👣 Who This Hike Is For\n\nThose comfortable walking for 4+ hours\nAnyone looking for a moderate challenge with some steady climbs\nPeople who enjoy a mix of woodland\, water\, and open landscapes\nThose wanting a social\, supportive group environment\n\n\n💬 Important Info\n\nPlease wear suitable footwear — sections can be uneven\, muddy\, or rocky\nBring water\, snacks\, and weather-appropriate clothing\nDogs are welcome but should be kept under control/on lead where needed\nThis is a group hike — we move together at a steady\, inclusive pace\n\n\n💙 Why We Do This\nOur hikes are free to join.If you choose to donate\, every penny helps fund urgent therapy for people in mental health crisis — often within 24–48 hours\, when support is needed most. \n\n\n			\n				\n				\n				\n				\n				🚗 Parking Diagram\n			\n				\n				\n				\n				\n				\n			\n				\n				\n				\n				\n				\n      \n  \n\n    \n        Sign Up\n            * indicates required\n            Email Address *First Name *Last Name *Phone Number *Medical Disclosure *Let us know any concerns or N/A Emergency Contact Name *Emergency Contact Number *Event Disclaimer By registering for any of our events\, I confirm that:\n\nI am participating voluntarily and understand that hiking and outdoor activities carry inherent risks\, including slips\, trips\, falls\, adverse weather\, uneven ground\, and other environmental hazards.\n\nI am responsible for assessing my own fitness and suitability for the event and will ensure I am physically capable of completing the planned route.\n\nI will wear appropriate clothing and footwear and bring any personal items needed to keep myself safe and comfortable\, including clean shoes/trousers for the indoor cinema portion of the event.\n\nI accept responsibility for my own safety during the hike and agree to follow the guidance of the event leads. I understand that Summits Up volunteers are not liable for any injury\, loss\, or damage arising from my participation.\n\nI will notify the event organisers of any relevant medical conditions that may affect my participation.\n\nI understand that weather or safety considerations may require changes to the planned route\, schedule\, or event structure at the discretion of the organisers.\n\nI consent to photographs and footage being taken during the event and used for Summits Up promotional purposes\, unless I notify the team in advance that I do not wish to be included.\n\nBy submitting this form\, I confirm that I have read\, understood\, and agree to the above disclaimer.  I have read and accept the events disclaimerYou can unsubscribe at any time by clicking the link in the footer of our emails. For information about our privacy practices\, please visit our website.  We use Mailchimp as our marketing platform. By clicking below to subscribe\, you acknowledge that your information will be transferred to Mailchimp for processing. Learn more about Mailchimp's privacy practices.  \n\n        \n            \n            \n        \n    \n\n\n\n\n			\n				\n				\n				\n				\n				\n				\n				\n				\n				\n				WhatsApp Community\n				Please confirm your attendance below and join our WhatsApp Community for Keeping up to date here 👉 WhatsApp Community
URL:https://summitsup.co.uk/event/3rd-may-peak-district-hike/
LOCATION:Rivelin Dams Car Park\, Rivelin Dams Car Park\, Sheffield\, S10 4LJ\, United Kingdom
ATTACH;FMTTYPE=image/jpeg:https://summitsup.co.uk/wp-content/uploads/2026/03/DJI_20240113100702_0058_D-scaled.jpeg
END:VEVENT
BEGIN:VEVENT
DTSTART;TZID=Europe/London:20260513T130000
DTEND;TZID=Europe/London:20260513T200000
DTSTAMP:20260425T174619
CREATED:20260403T155807Z
LAST-MODIFIED:20260403T160619Z
UID:10000016-1778677200-1778702400@summitsup.co.uk
SUMMARY:13th May 2026 - Stop Yourself - Sabotage Masterclass with Prime Life Project
DESCRIPTION:Stop Yourself - Self Sabotage Masterclass with Daniel James\n						Do you keep trying to change something in your life – and keep ending up back where you started? In this two-hour masterclass\, author and speaker Daniel James reveals the hidden patterns behind self-sabotage and why willpower alone will never fix them. You’ll leave with a clear understanding of what’s really been running your life – and a practical framework to finally change it. \nDaniel is the author of The Identity Wheel and has worked with organisations including Audi\, Nationwide\, Mind\, and Vets4Pets\, and spoken to over 14\,000 students across the UK. \nTickets are just £5. \nEvery penny goes to Summit’s Up – a grassroots East Midlands charity funding therapy sessions and building community for people silently struggling with their mental health. \nPlaces are limited. \n\n					\n				\n			\n				Buy a Ticket here!
URL:https://summitsup.co.uk/event/13th-may-2026-stop-yourself-sabotage-masterclass-with-prime-life-project/
LOCATION:Nottingham Central Library\, Carrington Street\, Nottingham\, UK NG1 7FF\, United Kingdom
ATTACH;FMTTYPE=image/jpeg:https://summitsup.co.uk/wp-content/uploads/2026/04/stop_your_selfsabotage_masterclass-7742846358.jpg
END:VEVENT
BEGIN:VEVENT
DTSTART;TZID=Europe/London:20260607T090000
DTEND;TZID=Europe/London:20260607T140000
DTSTAMP:20260425T174619
CREATED:20260303T121710Z
LAST-MODIFIED:20260303T122144Z
UID:10000012-1780822800-1780840800@summitsup.co.uk
SUMMARY:7th June 2026 Monthly Hike - Location TBC
DESCRIPTION:You can still sign up and save the date. \nDetails Coming Soon!\n			\n				\n				\n				\n				\n				\n      \n  \n\n    \n        Sign Up\n            * indicates required\n            Email Address *First Name *Last Name *Phone Number *Medical Disclosure *Please advise or N/AEmergency Contact Name *Emergency Contact Number *Disclaimer - See Below Read And AgreeEvent Disclaimer By registering for any of our events\, I confirm that:\n\nI am participating voluntarily and understand that hiking and outdoor activities carry inherent risks\, including slips\, trips\, falls\, adverse weather\, uneven ground\, and other environmental hazards.\n\nI am responsible for assessing my own fitness and suitability for the event and will ensure I am physically capable of completing the planned route.\n\nI will wear appropriate clothing and footwear and bring any personal items needed to keep myself safe and comfortable\, including clean shoes/trousers for the indoor cinema portion of the event.\n\nI accept responsibility for my own safety during the hike and agree to follow the guidance of the event leads. I understand that Summits Up volunteers are not liable for any injury\, loss\, or damage arising from my participation.\n\nI will notify the event organisers of any relevant medical conditions that may affect my participation.\n\nI understand that weather or safety considerations may require changes to the planned route\, schedule\, or event structure at the discretion of the organisers.\n\nI consent to photographs and footage being taken during the event and used for Summits Up promotional purposes\, unless I notify the team in advance that I do not wish to be included.\n\nBy submitting this form\, I confirm that I have read\, understood\, and agree to the above disclaimer.  I have read and accept the events disclaimerYou can unsubscribe at any time by clicking the link in the footer of our emails. For information about our privacy practices\, please visit our website.  We use Mailchimp as our marketing platform. By clicking below to subscribe\, you acknowledge that your information will be transferred to Mailchimp for processing. Learn more about Mailchimp's privacy practices.  \n\n        \n            \n            \n        \n    \n\n\n\n\n			\n				\n				\n				\n				\n				\n				\n				\n				\n				\n				WhatsApp Community\n				Please confirm your attendance below and join our WhatsApp Community for Keeping up to date here 👉 WhatsApp Community
URL:https://summitsup.co.uk/event/7th-june-2026-monthly-hike-location-tbc/
ATTACH;FMTTYPE=image/jpeg:https://summitsup.co.uk/wp-content/uploads/2026/03/AZyzki0BDW51aC8d6pO4Ag-AZyzki0BGU8mrSdxbm0xpA.jpg
END:VEVENT
BEGIN:VEVENT
DTSTART;VALUE=DATE:20260627
DTEND;VALUE=DATE:20260628
DTSTAMP:20260425T174619
CREATED:20260119T135554Z
LAST-MODIFIED:20260119T140401Z
UID:10000009-1782518400-1782604799@summitsup.co.uk
SUMMARY:27th June 2026 - Total Warrior Team Event
DESCRIPTION:Fancy doing something epic this summer? \nWe’re taking on Total Warrior in Leeds on Saturday 27th June 2026 — and we want you on our team. \nThis isn’t just an obstacle course. It’s mud\, water\, climbs\, jumps\, laughs\, grit\, and pure teamwork from start to finish. Whether you’re super fit or just up for a challenge\, this event is about turning up\, digging deep\, and getting over the finish line together. \n \nWhy we’re doing it \nWe’re building a Summits Up team to take on Total Warrior and raise funds for urgent mental health support — helping people access counselling and therapy when they need it most. \nThis is exactly what Summits Up is about: \nChallenge. Community. Real impact. \n \nWhat you’ll get by joining \n • A place in the Summits Up team \n • Group support\, encouragement and accountability \n • Optional meet-ups / training sessions (for anyone who wants them) \n • A free Summits Up T-shirt to wear on the day \n • An unforgettable day that you’ll be proud you did \nYou in? \nIf you’ve been waiting for a sign to do something bold this year — this is it. \nSign up below to join the Summits Up Total Warrior team (Leeds – 27th June 2026). \nLet’s get muddy\, get it done\, and do it together. \n			\n				Sign Up Here!!\n			\n				\n				\n				\n				\n				\n				\n				\n				\n				\n				WhatsApp Community\n				Please join our WhatsApp Community for Keeping up to date here 👉 WhatsApp Community
URL:https://summitsup.co.uk/event/27th-june-2026-total-warrior-team-event/
LOCATION:Braham Park\, Leeds\, Wetherby\, LS23 6ND
ATTACH;FMTTYPE=image/jpeg:https://summitsup.co.uk/wp-content/uploads/2026/01/IMG_9789.jpg
END:VEVENT
BEGIN:VEVENT
DTSTART;VALUE=DATE:20260910
DTEND;VALUE=DATE:20260914
DTSTAMP:20260425T174619
CREATED:20260303T124046Z
LAST-MODIFIED:20260327T094721Z
UID:10000013-1788998400-1789343999@summitsup.co.uk
SUMMARY:10th-13th September 2026 - Madeira Weekend Challenge
DESCRIPTION:ABOUT THIS CHALLENGE!! \nExperience incredible Madeira on this 4 day trip\, exclusive to Summits Up. This event is being delivered for Summits Up by one of our good friends Matt Buck of Running Adventures\, who is a qualified mountain leader and experienced ultra distance runner and hiker. \n​On this hiking weekend\, we will stay in the beautiful Vila Camacho Guest House\, just outside the city of Funchal. The guesthouse has beautiful sea views\, a sea water swimming pool\, sun terrace\, restaurant\, bar and more. \nAfter arriving in Madeira\, we’ll settle into our accommodation and take some time to relax before heading out for a short walk in the local area. In the evening\, we’ll enjoy a delicious meal at a local restaurant. \nFriday begins with breakfast at the guesthouse before we transfer to Ilha for an unforgettable hiking adventure\, the toughest challenge of the weekend. Our journey takes us to the summit of Pico Ruivo\, the highest peak in Madeira at 1862m. This hike is the equivalent of climbing Ben Nevis. From the summit\, we’ll descend through dramatic landscapes\, a route that offers awe-inspiring views and a rewarding sense of accomplishment. This 6 mile (10km) hike involves an elevation gain of +1400m and a descent of -350m\, making it a true highlight of the trip. \nIn the evening\, you’ll have the unique option to travel to Funchal city centre to explore the city and cap off the day with dinner at a local restaurant. \nOn Saturday\, after a hearty breakfast\, we’ll transfer to Rabacal for the renowned 25 Fontes (Fountains) Hike. This picturesque 8.5 mile (14km) trek winds through lush forests\, past cascading waterfalls\, and along serene levadas\, with an elevation change of approximately +170m | -500m\, we finish this hike with an awesome tunnel in complete darkness. After a fulfilling day on the trails\, we’ll return to the Vila Camacho Guest House to relax and unwind. In the evening\, we’ll come together for dinner at a local restaurant\, savoring the culinary delights of the island. \nIMPORTANT: This weekend includes rugged terrain\, lots of elevation and takes place in an unforgiving environment\, we want everyone to be safe. Therefore\, to join this weekend \, we recommend that you have completed at least a hilly 10 mile hike within 6 weeks of the event\, you don’t need to be a hiking expert\, but you must have a very good level of fitness and be able to walk for prolonged periods of time. \nIf you are unsure and would like to discuss before registering\, please do not hesitate to get in touch. \n\n\n\n\n\n\n\nPRICE \nSingle in twin shared room: £490Non refundable deposit of £100 required upon registration (deducted from balance). \n\n\n\n\n\n\n\nITINERARY \nThursdayTransfer from airport (approx 2:30pm TBC).Check into our accommodation at Vila Camacho Guest House.Short hike in the surrounding area.Dinner in a local restaurant. \nFridayBreakfast.Early transfer to Ilha.Hike to Pico Ruivo (1862m)\, the highest point of Madeira.Distance: Approx. 6 miles/10km.Elevation: Approx. +1400m | -300m.Taxi or walk to Funchal city centre for dinner. \nSaturdayBreakfast.Transfer to Rabacal.25 Fontes (Fountains) Hike.Distance: Approx. 8.5 miles/14km.Elevation: Approx. +170m | -500m.Transfer back to Vila Camacho Guest House.​Time to relax.Taxi or walk to Funchal city centre for dinner. \nSundayBreakfast.​Time to relax before transfer back to airport at 10am (time TBC). \nPlease note. Itinerary subject to last minute changes without warning and will be weather dependant. \nIncludedAccommodation.Breakfast.All transfers.​Trail fees.Guided hikes with fully qualified leaders.Advice and guidance throughout the weekend.Video and photos. \nNot IncludedFlights.Lunch and dinner on all days.Drinks and snacks.Transport to and from the weekend. \nIf you have any questions\, please do not hesitate to get in touch. \nTo REGISTER please head over to this link: https://www.hikingadventures.uk/summitsup.html
URL:https://summitsup.co.uk/event/10th-13th-september-2026-madeira-weekend-challenge/
ATTACH;FMTTYPE=image/jpeg:https://summitsup.co.uk/wp-content/uploads/2025/11/IMG_7623.jpeg
END:VEVENT
BEGIN:VEVENT
DTSTART;VALUE=DATE:20260927
DTEND;VALUE=DATE:20260928
DTSTAMP:20260425T174619
CREATED:20260325T234921Z
LAST-MODIFIED:20260327T095706Z
UID:10000014-1790467200-1790553599@summitsup.co.uk
SUMMARY:27th September 2026 - Run The Robin Hood Half Marathon For Us!
DESCRIPTION:🏃‍♀️ Robin Hood Half Marathon 2026\n						We’re proud to be part of the Robin Hood Half Marathon and we’re inviting you to join Team Summits Up. \nThis is more than a race\, it’s a chance to challenge yourself while helping someone else through one of the toughest moments of their life. \n					\n				\n			\n				\n				\n				\n				\n				\n			\n				\n				\n				\n				\n				\n					\n					\n						💬 Why Run with Summits Up\n						When you run with us\, every step you take helps fund urgent mental health therapy for people in crisis\, often within 24–48 hours\, when support cannot wait. \nWe don’t just raise awareness.We provide real\, immediate help — and your run makes that possible. \n					\n				\n			\n				\n				\n				\n				\n				\n					\n					\n						📍 The Event\n						Starting and finishing along Nottingham’s scenic riverside\, the Robin Hood Half Marathon is one of the UK’s most inclusive and supportive races. With incredible crowd energy and a welcoming atmosphere\, it’s perfect whether you’re taking on your first half marathon or chasing a new personal best. \n					\n				\n			\n				\n				\n				\n				\n				\n					\n					\n						🎯 Event Details\n						\nDate: Sunday 27 September 2026\nLocation: Victoria Embankment\, Nottingham\nDistance: 13.1 miles (21.1km)\n\n					\n				\n			\n				\n				\n				\n				\n				\n					\n					\n						🎟 Charity Places\n						We have: \n\n20 Half Marathon charity places\n5 Mini Marathon places\n\nYou can also join us if you already have your own place and would like to fundraise as part of Team Summits Up. \n					\n				\n			\n				\n				\n				\n				\n				\n					\n					\n						💷 Fundraising Targets\n						\nCharity Place: Minimum £200\nOwn Place: Suggested £100 (optional)\n\nEvery pound you raise goes directly towards funding therapy sessions for those who need support quickly and cannot afford private care. \nSet up Your Just Giving Page NOW! \n\n					\n				\n			\n				\n				\n				\n				\n				\n					\n					\n						❤️ The Impact You’ll Make\n						Your fundraising helps provide: \n\nAccess to qualified\, 1-to-1 therapists\nUp to 6 fully funded counselling sessions\nRapid support for people in mental health crisis\nA lifeline when NHS waiting times are too long\n\n100% of funds raised go directly to therapy. \n					\n				\n			\n				\n				\n				\n				\n				\n					\n					\n						🚀 How to Get Involved\n						Apply for a charity place:Email: emma@summitsup.co.uk for details \nAlready have a place?Join Team Summits Up and we’ll support you with everything you need to fundraise and be part of the community\, let us know by email to emma@summitsup.co.uk \nNot running?You can still support by donating or volunteering on the day. We need 10 volunteers to man the charity tent and marathon wave and greet point. \n					\n				\n			\n				\n				\n				\n				\n				\n					\n					\n						🤝 Why Join Team Summits Up?\n						When you run with us\, you’ll receive: \n\nGuaranteed entry (charity places)\nA Summits Up running t-shirt\nFundraising support and guidance\nAccess to our supportive community\nMotivation and accountability leading up to race day\nThe knowledge that your run is making a real difference\n\n					\n				\n			\n				\n				\n				\n				\n				\n					\n					\n						💭 Real Impact\, Real People\n						Every mile you run helps someone access support at a time when they may feel they have nowhere else to turn. \nThis isn’t just about completing 13.1 miles — it’s about helping someone take their first step towards feeling better. \n\n					\n				\n			\n				Sign Up Here!\n			\n			\n				\n				\n				\n				\n			\n				\n				\n			\n				\n				\n				\n				\n				\n				\n				\n				\n				\n				\n				\n				\n				\n				\n				\n				\n				\n				\n				\n				\n				\n				\n				WhatsApp Community\n				Please join our Robin Hood Half Marathon WhatsApp Group Community for Keeping up to date here 👉 WhatsApp Community
URL:https://summitsup.co.uk/event/27th-september-2026-run-the-robin-hood-half-marathon/
LOCATION:Victoria Embankment\, Nottingham\, NG2 2JY\, United Kingdom
ATTACH;FMTTYPE=image/jpeg:https://summitsup.co.uk/wp-content/uploads/2026/03/Half-Marathon-Nottingham-2025_0051-scaled.jpg
END:VEVENT
END:VCALENDAR