BEGIN:VCALENDAR
VERSION:2.0
PRODID:-//Summits Up - ECPv6.15.20//NONSGML v1.0//EN
CALSCALE:GREGORIAN
METHOD:PUBLISH
X-WR-CALNAME:Summits Up
X-ORIGINAL-URL:https://summitsup.co.uk
X-WR-CALDESC:Events for Summits Up
REFRESH-INTERVAL;VALUE=DURATION:PT1H
X-Robots-Tag:noindex
X-PUBLISHED-TTL:PT1H
BEGIN:VTIMEZONE
TZID:Europe/London
BEGIN:DAYLIGHT
TZOFFSETFROM:+0000
TZOFFSETTO:+0100
TZNAME:BST
DTSTART:20250330T010000
END:DAYLIGHT
BEGIN:STANDARD
TZOFFSETFROM:+0100
TZOFFSETTO:+0000
TZNAME:GMT
DTSTART:20251026T010000
END:STANDARD
BEGIN:DAYLIGHT
TZOFFSETFROM:+0000
TZOFFSETTO:+0100
TZNAME:BST
DTSTART:20260329T010000
END:DAYLIGHT
BEGIN:STANDARD
TZOFFSETFROM:+0100
TZOFFSETTO:+0000
TZNAME:GMT
DTSTART:20261025T010000
END:STANDARD
BEGIN:DAYLIGHT
TZOFFSETFROM:+0000
TZOFFSETTO:+0100
TZNAME:BST
DTSTART:20270328T010000
END:DAYLIGHT
BEGIN:STANDARD
TZOFFSETFROM:+0100
TZOFFSETTO:+0000
TZNAME:GMT
DTSTART:20271031T010000
END:STANDARD
END:VTIMEZONE
BEGIN:VEVENT
DTSTART;TZID=Europe/London:20260424T190000
DTEND;TZID=Europe/London:20260424T213000
DTSTAMP:20260425T235132
CREATED:20260403T161343Z
LAST-MODIFIED:20260403T161841Z
UID:10000017-1777057200-1777066200@summitsup.co.uk
SUMMARY:24th April 2026 - Nottingham Comedy Evening with Russ Lee
DESCRIPTION:Stop Yourself - Self Sabotage Masterclass with Daniel James\n						Get ready to laugh out loud with hilarious stand-up acts live on stage—fun night guaranteed! With Nottinghams Russ Lee as MC for the evening \nGet Ready to Laugh Out Loud!Join us for an epic Stand up comedy night that’s all about good vibes and big laughs. This in-person event brings together the funniest folks to tickle your funny bone\, mc for the evening is Nottingham lad Russ Lee and comedians joining him are Lloyd bijou\, kimmy k\, Danny Strachan\, Stephen catling and Calum Scouller\, doors open at 6pm for drinks and show starts at 7.30 \n\n\n\nwe are working along side summits up a mental health charity that helps people get treatment they need without the long nhs waiting times\, a proportion of all ticket sales are donated to this great cause. \n\n\n\n					\n				\n			\n				Buy a Ticket here!
URL:https://summitsup.co.uk/event/24th-april-2026-nottingham-comedy-evening-with-russ-lee/
LOCATION:K-Two\, 76-80 Lower Parliament Street\, Nottingham\, NG1 1EH\, United Kingdom
ATTACH;FMTTYPE=image/webp:https://summitsup.co.uk/wp-content/uploads/2026/04/image.webp
END:VEVENT
END:VCALENDAR