BEGIN:VCALENDAR
VERSION:2.0
PRODID:-//Summits Up - ECPv6.15.20//NONSGML v1.0//EN
CALSCALE:GREGORIAN
METHOD:PUBLISH
X-WR-CALNAME:Summits Up
X-ORIGINAL-URL:https://summitsup.co.uk
X-WR-CALDESC:Events for Summits Up
REFRESH-INTERVAL;VALUE=DURATION:PT1H
X-Robots-Tag:noindex
X-PUBLISHED-TTL:PT1H
BEGIN:VTIMEZONE
TZID:Europe/London
BEGIN:DAYLIGHT
TZOFFSETFROM:+0000
TZOFFSETTO:+0100
TZNAME:BST
DTSTART:20250330T010000
END:DAYLIGHT
BEGIN:STANDARD
TZOFFSETFROM:+0100
TZOFFSETTO:+0000
TZNAME:GMT
DTSTART:20251026T010000
END:STANDARD
BEGIN:DAYLIGHT
TZOFFSETFROM:+0000
TZOFFSETTO:+0100
TZNAME:BST
DTSTART:20260329T010000
END:DAYLIGHT
BEGIN:STANDARD
TZOFFSETFROM:+0100
TZOFFSETTO:+0000
TZNAME:GMT
DTSTART:20261025T010000
END:STANDARD
BEGIN:DAYLIGHT
TZOFFSETFROM:+0000
TZOFFSETTO:+0100
TZNAME:BST
DTSTART:20270328T010000
END:DAYLIGHT
BEGIN:STANDARD
TZOFFSETFROM:+0100
TZOFFSETTO:+0000
TZNAME:GMT
DTSTART:20271031T010000
END:STANDARD
END:VTIMEZONE
BEGIN:VEVENT
DTSTART;TZID=Europe/London:20260118T090000
DTEND;TZID=Europe/London:20260118T140000
DTSTAMP:20260426T013453
CREATED:20251217T165153Z
LAST-MODIFIED:20260109T123803Z
UID:10000002-1768726800-1768744800@summitsup.co.uk
SUMMARY:18th January 2026 - Hathersage Hike
DESCRIPTION:Start the year strong with a classic Peak District ridge walk. This route climbs from Hathersage village up onto Stanage Edge via High Neb\, rewarding the effort with expansive views across Hope Valley and the Dark Peak. A steady\, scenic winter adventure with good company. \n📍 LogisticsStart / Finish: Hathersage Village Car ParkMeet Time: 8:45amWalk Start: 9:00amGrade: ModerateDistance: 8.5 miles / 13.7 kmTotal Ascent: 1\,575 ft / 480 mEstimated Duration: Approx. 4–5 hours (steady group pace with breaks) \n🥾 Route OverviewClimb from Hathersage up to High NebRidge walking along Stanage EdgeOpen moorland and gritstone paths with panoramic viewsReturn loop into Hathersage village \n 👉 AllTrails Route Here! \n❄️ Winter ConditionsExpect wind and colder temperatures on the ridgePaths may be muddy\, icy\, or unevenPace and timing adjusted based on conditions \n🍲 Post-HikeOptional food and drinks in Hathersage village. We will advise location closer to time. \n🎒 What to BringSturdy hiking boots (good grip essential)Waterproof jacket & trousersWarm layers\, hat\, gloves\, buffDay pack with water & snacksHead torch (short daylight hours – bring just in case)Walking poles (optional) \n⚠️ Important NotesExposed ridge walking – dress appropriatelyTake care near edges\, especially in poor weatherDogs welcome but must be on leads near livestock  \n\n\n\n\n \n\n			\n				\n				\n				\n				\n				\n      \n  \n\n    \n        Sign Up \n            * indicates required\n            Email Address *First Name *Last Name *Phone Number *Disclaimer Read And Agree\n\n        \n            \n            \n        \n    \n\n\n\n\n			\n				\n				\n				\n				\n				\n				\n				\n				\n				\n				WhatsApp Community\n				Please confirm your attendance below and join our WhatsApp Community for Keeping up to date here 👉 WhatsApp Community \n			\n				\n				\n				\n				\n				Disclaimer\n				By registering for this event\, I confirm that: \n\n\nI am participating voluntarily and understand that hiking and outdoor activities carry inherent risks\, including slips\, trips\, falls\, adverse weather\, uneven ground\, and other environmental hazards. \n\n\nI am responsible for assessing my own fitness and suitability for the event and will ensure I am physically capable of completing the planned route. \n\n\nI will wear appropriate clothing and footwear and bring any personal items needed to keep myself safe and comfortable\, including clean shoes/trousers for the indoor cinema portion of the event. \n\n\nI accept responsibility for my own safety during the hike and agree to follow the guidance of the event leads. I understand that Summits Up volunteers are not liable for any injury\, loss\, or damage arising from my participation. \n\n\nI will notify the event organisers of any relevant medical conditions that may affect my participation. \n\n\nI understand that weather or safety considerations may require changes to the planned route\, schedule\, or event structure at the discretion of the organisers. \n\n\nI consent to photographs and footage being taken during the event and used for Summits Up promotional purposes\, unless I notify the team in advance that I do not wish to be included. \n\n\nBy submitting this form\, I confirm that I have read\, understood\, and agree to the above disclaimer.
URL:https://summitsup.co.uk/event/18th-january-2026-hathersage-hike/
LOCATION:Hathersage Village Car Park\, Oddfellows Rd\, Hathersage\, S32 1DU\, United Kingdom
ATTACH;FMTTYPE=image/png:https://summitsup.co.uk/wp-content/uploads/2025/12/stanedge.png
END:VEVENT
END:VCALENDAR