BEGIN:VCALENDAR
VERSION:2.0
PRODID:-//Summits Up - ECPv6.15.20//NONSGML v1.0//EN
CALSCALE:GREGORIAN
METHOD:PUBLISH
X-ORIGINAL-URL:https://summitsup.co.uk
X-WR-CALDESC:Events for Summits Up
REFRESH-INTERVAL;VALUE=DURATION:PT1H
X-Robots-Tag:noindex
X-PUBLISHED-TTL:PT1H
BEGIN:VTIMEZONE
TZID:Europe/London
BEGIN:DAYLIGHT
TZOFFSETFROM:+0000
TZOFFSETTO:+0100
TZNAME:BST
DTSTART:20250330T010000
END:DAYLIGHT
BEGIN:STANDARD
TZOFFSETFROM:+0100
TZOFFSETTO:+0000
TZNAME:GMT
DTSTART:20251026T010000
END:STANDARD
BEGIN:DAYLIGHT
TZOFFSETFROM:+0000
TZOFFSETTO:+0100
TZNAME:BST
DTSTART:20260329T010000
END:DAYLIGHT
BEGIN:STANDARD
TZOFFSETFROM:+0100
TZOFFSETTO:+0000
TZNAME:GMT
DTSTART:20261025T010000
END:STANDARD
BEGIN:DAYLIGHT
TZOFFSETFROM:+0000
TZOFFSETTO:+0100
TZNAME:BST
DTSTART:20270328T010000
END:DAYLIGHT
BEGIN:STANDARD
TZOFFSETFROM:+0100
TZOFFSETTO:+0000
TZNAME:GMT
DTSTART:20271031T010000
END:STANDARD
END:VTIMEZONE
BEGIN:VEVENT
DTSTART;TZID=Europe/London:20260322T090000
DTEND;TZID=Europe/London:20260322T140000
DTSTAMP:20260425T222024
CREATED:20251221T162938Z
LAST-MODIFIED:20260303T113803Z
UID:10000008-1774170000-1774188000@summitsup.co.uk
SUMMARY:22nd March 2026 - Frogatt\, Curbar & Baslow Hike
DESCRIPTION:A classic Peak District edge walk combining dramatic gritstone escarpments\, sweeping Derwent Valley views\, and quieter woodland and riverside sections. This varied circular takes in Froggatt\, Curbar and Baslow Edges before looping through the Derwent Valley\, offering big views\, open moorland paths\, and peaceful lower-level trails. \n📍 LogisticsStart / Finish: Froggatt / Curbar Edge area (Haywood Car Park\, S11 7TZ)Meet Time: 8:45amWalk Start: 9:00amGrade: ModerateDistance: 9.25 miles / 14.8 kmTotal Ascent: 2\,024 ft / 617 mEstimated Duration: Approx. 5–6 hours (steady group pace with breaks) \n🥾 Route OverviewAscend to Froggatt Edge with wide views across the Derwent ValleyContinue along Curbar Edge\, taking in classic gritstone sceneryTraverse Baslow Edge with open moorland paths and panoramic viewpointsDescend into the Derwent ValleyRiverside and woodland sections before the return climbComplete the circular back to the start point \n👉 AllTrails Route Here! \n👣 Who This Hike Is ForWalkers with a moderate level of fitnessThose comfortable covering 9+ miles at a steady\, sociable group pacePeople happy on mixed terrain\, including rocky edge paths\, uneven ground\, woodland trails\, and sustained climbsAnyone looking for a supportive group hike\, not a fast-paced or technical routeThose wanting to build confidence for longer or hillier Peak District walks \n❌ This Hike May Not Be Suitable ForComplete beginners with no prior walking experienceAnyone unable to walk for 5–6 hours\, even with breaksPushchairs or off-road buggies due to uneven and rocky terrain \n❄️ Winter ConditionsExposed edge sections can be windy and coldRocky gritstone paths may be slippery when wet or icyWoodland and valley paths can be muddyPace and timings will be adjusted depending on conditions \n🍲 Post-HikeOptional food and drinks locally in Baslow or nearby villages. Pubs and cafés are available booking recommended if planning to eat. \n🎒 What to BringSturdy hiking boots with good gripWaterproof jacket and trousersWarm layers\, hat\, gloves\, buffDay pack with water and snacksHead torch (short daylight hours — bring just in case)Walking poles (optional\, useful on ascents and descents) \n⚠️ Important NotesCare required on exposed edge paths and rocky descentsDress appropriately for variable weather conditionsDogs welcome but must be kept on leads near livestock and cliff edges \n			\n				\n				\n				\n				\n				\n      \n  \n\n    \n        Sign Up\n            * indicates required\n            Email Address *First Name *Last Name *Phone Number *Disclaimer Read And AgreeMedical Disclosure *Emergency Contact Name *Emergency Contact Number *Event Disclaimer By registering for any of our events\, I confirm that:\n\nI am participating voluntarily and understand that hiking and outdoor activities carry inherent risks\, including slips\, trips\, falls\, adverse weather\, uneven ground\, and other environmental hazards.\n\nI am responsible for assessing my own fitness and suitability for the event and will ensure I am physically capable of completing the planned route.\n\nI will wear appropriate clothing and footwear and bring any personal items needed to keep myself safe and comfortable\, including clean shoes/trousers for the indoor cinema portion of the event.\n\nI accept responsibility for my own safety during the hike and agree to follow the guidance of the event leads. I understand that Summits Up volunteers are not liable for any injury\, loss\, or damage arising from my participation.\n\nI will notify the event organisers of any relevant medical conditions that may affect my participation.\n\nI understand that weather or safety considerations may require changes to the planned route\, schedule\, or event structure at the discretion of the organisers.\n\nI consent to photographs and footage being taken during the event and used for Summits Up promotional purposes\, unless I notify the team in advance that I do not wish to be included.\n\nBy submitting this form\, I confirm that I have read\, understood\, and agree to the above disclaimer.I have read and accept the events disclaimerYou can unsubscribe at any time by clicking the link in the footer of our emails. For information about our privacy practices\, please visit our website.We use Mailchimp as our marketing platform. By clicking below to subscribe\, you acknowledge that your information will be transferred to Mailchimp for processing. Learn more about Mailchimp's privacy practices.\n\n        \n            \n            \n        \n    \n\n\n\n\n			\n				\n				\n				\n				\n				\n				\n				\n				\n				\n				WhatsApp Community\n				Please confirm your attendance below and join our WhatsApp Community for Keeping up to date here 👉 WhatsApp Community
URL:https://summitsup.co.uk/event/22nd-march-2026-frogatt-curbar-baslow-hike/
LOCATION:Haywood Car Park\, Haywood\, Grindleford\, Hope Valley\, S11 7TZ\, United Kingdom
ATTACH;FMTTYPE=image/png:https://summitsup.co.uk/wp-content/uploads/2025/12/curbar.png
END:VEVENT
END:VCALENDAR