BEGIN:VCALENDAR
VERSION:2.0
PRODID:-//Summits Up - ECPv6.15.20//NONSGML v1.0//EN
CALSCALE:GREGORIAN
METHOD:PUBLISH
X-ORIGINAL-URL:https://summitsup.co.uk
X-WR-CALDESC:Events for Summits Up
REFRESH-INTERVAL;VALUE=DURATION:PT1H
X-Robots-Tag:noindex
X-PUBLISHED-TTL:PT1H
BEGIN:VTIMEZONE
TZID:Europe/London
BEGIN:DAYLIGHT
TZOFFSETFROM:+0000
TZOFFSETTO:+0100
TZNAME:BST
DTSTART:20250330T010000
END:DAYLIGHT
BEGIN:STANDARD
TZOFFSETFROM:+0100
TZOFFSETTO:+0000
TZNAME:GMT
DTSTART:20251026T010000
END:STANDARD
BEGIN:DAYLIGHT
TZOFFSETFROM:+0000
TZOFFSETTO:+0100
TZNAME:BST
DTSTART:20260329T010000
END:DAYLIGHT
BEGIN:STANDARD
TZOFFSETFROM:+0100
TZOFFSETTO:+0000
TZNAME:GMT
DTSTART:20261025T010000
END:STANDARD
BEGIN:DAYLIGHT
TZOFFSETFROM:+0000
TZOFFSETTO:+0100
TZNAME:BST
DTSTART:20270328T010000
END:DAYLIGHT
BEGIN:STANDARD
TZOFFSETFROM:+0100
TZOFFSETTO:+0000
TZNAME:GMT
DTSTART:20271031T010000
END:STANDARD
END:VTIMEZONE
BEGIN:VEVENT
DTSTART;TZID=Europe/London:20260131T140000
DTEND;TZID=Europe/London:20260131T200000
DTSTAMP:20260426T013641
CREATED:20251221T155525Z
LAST-MODIFIED:20260119T134414Z
UID:10000005-1769868000-1769889600@summitsup.co.uk
SUMMARY:31st January 2026 - Cinema & Hike
DESCRIPTION:Perfect winter blend of fresh air\, movement with a steady 7.5km Hike and a cosy private film experience. \nEvent Overview \nJoin us for a unique Summits Up afternoon combining an invigorating hike with a private film screening in one of Derbyshire’s most charming boutique cinemas. Numbers are limited to keep the experience relaxed and intimate. \nSchedule \n🌄 2:00pm PROMPT – Hike Start \nMeeting Point: Wirksworth Market Place\, Wirksworth\, Matlock DE4 4ETParking: Local Wirksworth car parks\, there are several around the Market Place and side streetsDistance: 7.5km circularHighlights: Woodland trails\, gritstone edges\, panoramic views over Black Rocks \n🔗 Hike Route & Map:Wirksworth to Black Rocks Circular (AllTrails) \n🎬 Approx. 5:00pm – Top Gun – Maverick \nVenue: The Northern Light Cinema\, WirksworthA boutique\, sofa-style cinema experience.Drinks: Available at the bar and can be taken into the screening. \n🍻 Afterwards \nOptional social drinks at the cinema bar or nearby pubs. \n🎟 Tickets \n£20 per personIncludes guided hike + private film screening.Limited spaces to ensure a comfortable group experience.Payment to Emma TrolleySort code 110522Account 01240581 \n🎒 What to Bring \nFor the Hike \n• 🥾 Sturdy footwear suitable for winter trails• 🧥 Warm layers + waterproof jacket• 🧤 Gloves / hat (weather dependent)• 💧 Water or a warm drink• 🎒 Optional: small backpack + snacks• 🔦 Headtorch if light fades / conditions require \nFor the Cinema \n• 👟 Clean shoes to change into• 👖 Clean trousers/leggings if the trails are muddy \n			\n				\n				\n				\n				\n				\n      \n  \n\n    \n        Sign up here for any events you’d like to join.\n            * indicates required\n            Email Address *First Name *Last Name *Phone Number *Medical Disclosure Please let us know of any relevant medical concernsEmergency Contact Name *Emergency Contact Number *Monthly Hikes 31st January 2026 - Cinema and Hike Black Rocks22nd February 2026 - Monsal Dale Hike22nd March 2026 - Frogatt and Curbar HikeFundraising Events 18th April 2026 - Yorkshire 3 Peaks10-13 September 2026 - Madeira ChallengeOther Events 6th March 2026 - Only Notts Festival27th June 2026 Tough Mudder Team EventEvent Disclaimer By registering for any of our events\, I confirm that:\n\nI am participating voluntarily and understand that hiking and outdoor activities carry inherent risks\, including slips\, trips\, falls\, adverse weather\, uneven ground\, and other environmental hazards.\n\nI am responsible for assessing my own fitness and suitability for the event and will ensure I am physically capable of completing the planned route.\n\nI will wear appropriate clothing and footwear and bring any personal items needed to keep myself safe and comfortable\, including clean shoes/trousers for the indoor cinema portion of the event.\n\nI accept responsibility for my own safety during the hike and agree to follow the guidance of the event leads. I understand that Summits Up volunteers are not liable for any injury\, loss\, or damage arising from my participation.\n\nI will notify the event organisers of any relevant medical conditions that may affect my participation.\n\nI understand that weather or safety considerations may require changes to the planned route\, schedule\, or event structure at the discretion of the organisers.\n\nI consent to photographs and footage being taken during the event and used for Summits Up promotional purposes\, unless I notify the team in advance that I do not wish to be included.\n\nBy submitting this form\, I confirm that I have read\, understood\, and agree to the above disclaimer.  I have read and accept the events disclaimerYou can unsubscribe at any time by clicking the link in the footer of our emails. For information about our privacy practices\, please visit our website.  We use Mailchimp as our marketing platform. By clicking below to subscribe\, you acknowledge that your information will be transferred to Mailchimp for processing. Learn more about Mailchimp's privacy practices.  \n        \n            \n            \n        \n    \n\n\n\n\n			\n				\n				\n				\n				\n				\n				\n				\n				\n				\n				WhatsApp Community\n				Please confirm your attendance below and join our WhatsApp Community for Keeping up to date here 👉 WhatsApp Community
URL:https://summitsup.co.uk/event/31st-january-2026-cinema-hike/
LOCATION:Wirksworth Market Place\, 11 West End\, Wirksworth\, DE4 4EG\, United Kingdom
ATTACH;FMTTYPE=image/png:https://summitsup.co.uk/wp-content/uploads/2025/12/cinema.png
END:VEVENT
END:VCALENDAR